BEGIN:VCALENDAR
VERSION:2.0
PRODID:-//hacksw/handcal//NONSGML v1.0//EN
BEGIN:VEVENT
DTSTART:20260512T143000Z
DTEND:20260512T160000Z
LOCATION:Le Grand Palais \n3,  avenue du Général Eisenhower \n75008 PARIS
ORGANIZER;CN=Jacqueline Pasdeloup - CSA Ile de France:MAILTO:jacqueline@asso-supelec.org
SUMMARY:Exposition « Matisse 1941-1954 » au Grand Palais
DESCRIPTION:\nDans la lumière éclatante de ses dernières années, Matisse invente un nouveau langage : celui des formes découpées et de la couleur pure. Plus de 230 peintures, dessins, livres et gouaches découpées...
URL:https://association.centralesupelec-alumni.com/fr/group/csa-ile-de-france/587/calendar/exposition-matisse-1941-1954-au-grand-palais/2026/05/12/9986
BEGIN:VALARM
TRIGGER:-P0DT1H0M0S
ACTION:DISPLAY
END:VALARM
END:VEVENT
END:VCALENDAR