BEGIN:VCALENDAR
VERSION:2.0
PRODID:-//hacksw/handcal//NONSGML v1.0//EN
BEGIN:VEVENT
DTSTART:20260520T100000Z
DTEND:20260520T140000Z
LOCATION:Restaurant Ivan VAUTIER \n3 av. Henry      Chéron \n14000 CAEN
ORGANIZER;CN=Yves Combaud - Basse-Normandie (CSA):MAILTO:y.combaud@orange.fr
SUMMARY:déjeuner CSA Basse-Normandie Mercredi 20 mai 2026 à Caen, restaurant Ivan Vautier
DESCRIPTION:Nous vous invitons à un déjeuner le Mercredi 20 mai   2026  , à 12 h   , à        Caen au restaurant Ivan Vautier.Ce déjeuner est  organisé avec  Alain Baillon.  Il aura lieu au   restaurant Ivan...
URL:https://association.centralesupelec-alumni.com/fr/group/basse-normandie-csa/285/calendar/dejeuner-csa-basse-normandie-mercredi-20-mai-2026-a-caen-restaurant-ivan-vautier/2026/05/20/9985
BEGIN:VALARM
TRIGGER:-P0DT1H0M0S
ACTION:DISPLAY
END:VALARM
END:VEVENT
END:VCALENDAR