BEGIN:VCALENDAR
VERSION:2.0
PRODID:-//hacksw/handcal//NONSGML v1.0//EN
BEGIN:VEVENT
DTSTART:20260429T020000Z
DTEND:20260429T040000Z
LOCATION:Alchemist Bar & Lounge \n679, 3rd Street \n94107 SAN FRANCISCO
ORGANIZER;CN=Alain Raynaud - USA (CSA):MAILTO:alain@fairsoftware.net
SUMMARY:Afterwork avec les élèves du master entreprenariat CentraleSupelec/ESSEC en visite
DESCRIPTION:Les 45 élèves du Master CentraleSupelec/ESSEC viennent visiter la region de San Francisco  la semaine du 27 avril.On organise un after-work pour qu'ils puissent rencontrer la communauté des anciens...
URL:https://association.centralesupelec-alumni.com/fr/group/usa-csa/209/calendar/afterwork-avec-les-eleves-du-master-entreprenariat-centralesupelec-essec-en-visite/2026/04/29/9984
BEGIN:VALARM
TRIGGER:-P0DT1H0M0S
ACTION:DISPLAY
END:VALARM
END:VEVENT
END:VCALENDAR