BEGIN:VCALENDAR
VERSION:2.0
PRODID:-//hacksw/handcal//NONSGML v1.0//EN
BEGIN:VEVENT
DTSTART:20260409T101500Z
DTEND:20260409T120000Z
LOCATION:Notre Dame de Paris \n6, Parvis Notre Dame - Place Jean-Paul II \n75004 PARIS
ORGANIZER;CN=Alain Dennery - Promotion ECP 1956:MAILTO:alan7592@gmail.com
SUMMARY:Notre Dame de Paris
DESCRIPTION:Visite guidée par conférencier agréé.
URL:https://association.centralesupelec-alumni.com/fr/group/promotion-ecp-1956/193/calendar/notre-dame-de-paris/2026/04/09/9982
BEGIN:VALARM
TRIGGER:-P0DT1H0M0S
ACTION:DISPLAY
END:VALARM
END:VEVENT
END:VCALENDAR