BEGIN:VCALENDAR
VERSION:2.0
PRODID:-//hacksw/handcal//NONSGML v1.0//EN
BEGIN:VEVENT
DTSTART:20260429T170000Z
DTEND:20260429T190000Z
LOCATION:IESF \n7, Rue Lamennais \n75008 PARIS
ORGANIZER;CN=Christian Ledoux - Automobile (CSA):MAILTO:christian.ledoux64@outlook.fr
SUMMARY:Révolution de la mobilité - la compétitivité de l’éco-système chinois pour l’Europe, mythe ou réalité ?
DESCRIPTION:🚘 Première conférence question/réponse du Groupe Auto de Centrale Nantes Alumni : révolution de la mobilité - la compétitivité de l’éco-système chinois pour l’Europe, mythe ou réalité ?\nIntervenant :...
URL:https://association.centralesupelec-alumni.com/fr/group/automobile-csa/317/calendar/revolution-de-la-mobilite-la-competitivite-de-l-eco-systeme-chinois-pour-l-europe-mythe-ou-realite/2026/04/29/9975
BEGIN:VALARM
TRIGGER:-P0DT1H0M0S
ACTION:DISPLAY
END:VALARM
END:VEVENT
END:VCALENDAR