BEGIN:VCALENDAR
VERSION:2.0
PRODID:-//hacksw/handcal//NONSGML v1.0//EN
BEGIN:VEVENT
DTSTART:20260419T183000Z
DTEND:20260419T200000Z
LOCATION:Théâtre Montmartre Galabru \n4, Rue de l'Armée d'Orient \n75018 PARIS
ORGANIZER;CN=Jacqueline Pasdeloup - CSA Ile de France:MAILTO:jacqueline@asso-supelec.org
SUMMARY:Pièce de théâtre « Le repas des fauves » au théâtre Montmartre Galabru
DESCRIPTION:\n1942, un soir de printemps, dans une ville proche de Paris où la France \nest occupée par les Allemands.\nUn groupe d'amis s'apprête à fêter l'anniversaire de Sophie Pélissier. Malgré le couvre-feu ...
URL:https://association.centralesupelec-alumni.com/fr/group/csa-ile-de-france/587/calendar/piece-de-theatre-le-repas-des-fauves-au-theatre-montmartre-galabru/2026/04/19/9969
BEGIN:VALARM
TRIGGER:-P0DT1H0M0S
ACTION:DISPLAY
END:VALARM
END:VEVENT
END:VCALENDAR