BEGIN:VCALENDAR
VERSION:2.0
PRODID:-//hacksw/handcal//NONSGML v1.0//EN
BEGIN:VEVENT
DTSTART:20260626T100000Z
DTEND:20260626T130000Z
LOCATION:Domaine des Artauds \n668, Chemin Carraire des Artauds \n13100 LE THOLONET
ORGANIZER;CN=Philippe Cabrit - Provence (CSA):MAILTO:philippe.cabrit@centralesupelec-alumni.com
SUMMARY:CSummer week CSA Provence  au Domaine des Artauds
DESCRIPTION:Vendredi 26 juin au Tholonet\n CSummer week CSA Provence\n au Domaine des Artauds\n (save the date)­La CSummer Week, c'est une semaine de rendez-vous de la communauté CentraleSupélec Alumni à travers ...
URL:https://association.centralesupelec-alumni.com/fr/group/provence-csa/347/calendar/csummer-week-csa-provence-au-domaine-des-artauds/2026/06/26/9965
BEGIN:VALARM
TRIGGER:-P0DT1H0M0S
ACTION:DISPLAY
END:VALARM
END:VEVENT
END:VCALENDAR