BEGIN:VCALENDAR
VERSION:2.0
PRODID:-//hacksw/handcal//NONSGML v1.0//EN
BEGIN:VEVENT
DTSTART:20260512T100000Z
DTEND:20260512T124500Z
LOCATION:Eat Good Place \n4 Chome-42 Higashi-Ikebukuro, Toshima, Tokyo, Japon \n170-0013 TOSHIMA CITY
ORGANIZER;CN=Laurent Wolff - Japon (CSA):MAILTO:laurent.wolff@centraliens.net
SUMMARY:Tokyo Inter-Ecoles 2026
DESCRIPTION:Inter-Ecoles gathering Dear all, on May 12(Tuesday), from 7pm, we will hold the now traditional Inter-Ecoles gathering jointly with Essec, HEC, Sciences Po, and Polytechnique. We have booked Eat Good ...
URL:https://association.centralesupelec-alumni.com/fr/group/japon-csa/237/calendar/tokyo-inter-ecoles-2026/2026/05/12/9956
BEGIN:VALARM
TRIGGER:-P0DT1H0M0S
ACTION:DISPLAY
END:VALARM
END:VEVENT
END:VCALENDAR