BEGIN:VCALENDAR
VERSION:2.0
PRODID:-//hacksw/handcal//NONSGML v1.0//EN
BEGIN:VEVENT
DTSTART:20260425T094500Z
DTEND:20260425T110000Z
LOCATION:Bistrot Teatro \n577, Avenue Jules Grec \n06600 ANTIBES
ORGANIZER;CN=Claude Dalstein - Côte-d'Azur - Corse (CSA):MAILTO:claude.dalstein@centraliens.net
SUMMARY:Repas au Bistrot Téatro avant le loup Garou
DESCRIPTION:Cher camarade,avant la conférence sur la prise de décision et les jeux de loup Garou,  je te propose de nous retrouver au restaurant le Bistrot Téatro,577, Avenue Jules Grec, 06600 Antibesle samedi 25...
URL:https://association.centralesupelec-alumni.com/fr/group/cote-d-azur-corse-csa/309/calendar/repas-au-bistrot-teatro-avant-le-loup-garou/2026/04/25/9954
BEGIN:VALARM
TRIGGER:-P0DT1H0M0S
ACTION:DISPLAY
END:VALARM
END:VEVENT
END:VCALENDAR