BEGIN:VCALENDAR
VERSION:2.0
PRODID:-//hacksw/handcal//NONSGML v1.0//EN
BEGIN:VEVENT
DTSTART:20260427T170000Z
DTEND:20260427T190000Z
LOCATION:Hôtel des Arts et Métiers - salle la Rochefoucauld \n9, Place d'Iéna \n75016 PARIS
ORGANIZER;CN=Jacqueline Pasdeloup:MAILTO:jacqueline@asso-supelec.org
SUMMARY:Conférence spectacle « La portance d'être SOI »
DESCRIPTION:\nConférence spectacle La portance d'être SOI\nUne invitation à s'interroger sur sa place et à oser la prendre Lundi 27 avril 2026\nde 19 h à 21 h \nSalle la RochefoucauldHôtel Iéna & en...
URL:https://association.centralesupelec-alumni.com/fr/event/conference-spectacle-la-portance-d-etre-soi/2026/04/27/9927
BEGIN:VALARM
TRIGGER:-P0DT1H0M0S
ACTION:DISPLAY
END:VALARM
END:VEVENT
END:VCALENDAR