BEGIN:VCALENDAR
VERSION:2.0
PRODID:-//hacksw/handcal//NONSGML v1.0//EN
BEGIN:VEVENT
DTSTART:20260415T080000Z
DTEND:20260415T103000Z
LOCATION:Cours des comptes \n13, Rue Cambon \n75001 PARIS
ORGANIZER;CN=Christopher Georges - publiCS / CSA Secteur public:MAILTO:christopher.georges@centralesupelec-alumni.com
SUMMARY:Visite de la Cour des comptes
DESCRIPTION:Dans le cadre de son programme de visite d'institutions, le groupement publiCS propose une visite de la Cour des comptes. Au programme : une présentation suivi d'une visite de l'institution. \nCette...
URL:https://association.centralesupelec-alumni.com/fr/group/publics-csa-secteur-public/602/calendar/visite-de-la-cour-des-comptes/2026/04/15/9923
BEGIN:VALARM
TRIGGER:-P0DT1H0M0S
ACTION:DISPLAY
END:VALARM
END:VEVENT
END:VCALENDAR