BEGIN:VCALENDAR
VERSION:2.0
PRODID:-//hacksw/handcal//NONSGML v1.0//EN
BEGIN:VEVENT
DTSTART:20260415T123000Z
DTEND:20260415T150000Z
LOCATION:La Maison CentraleSupelec \n8, Rue Jean Goujon \n75008 PARIS
ORGANIZER;CN=Michel Galimberti - Généalogie (CSA):MAILTO:michel.galimberti@gmail.com
SUMMARY:SESSION D'INITIATION ET DE PERFECTIONNEMENT A LA GENEALOGIE
DESCRIPTION:La généalogie est une discipline passionnante qui permet de retracer l’histoire de sa famille et de mieux comprendre ses origines. Mais, pour un ingénieur, c’est aussi une école de rigueur, et...
URL:https://association.centralesupelec-alumni.com/fr/group/genealogie-csa/49/calendar/session-d-initiation-et-de-perfectionnement-a-la-genealogie/2026/04/15/9919
BEGIN:VALARM
TRIGGER:-P0DT1H0M0S
ACTION:DISPLAY
END:VALARM
END:VEVENT
END:VCALENDAR