BEGIN:VCALENDAR
VERSION:2.0
PRODID:-//hacksw/handcal//NONSGML v1.0//EN
BEGIN:VEVENT
DTSTART:20260425T111500Z
DTEND:20260425T150000Z
LOCATION:Maison des Associations Antibes \n288, Chemin de Saint-Claude \n06600 ANTIBES
ORGANIZER;CN=Claude Dalstein - Côte-d'Azur - Corse (CSA):MAILTO:claude.dalstein@centraliens.net
SUMMARY:Décider sans tout savoir : leçons de statistique bayésienne et de loup garou
DESCRIPTION:\nConférence et jeu de loup Garou :Samedi 25 avril 2026 à partir de 13h15 à la maison des Associations d'Antibes, 288 chemin de saint Claude,06600 Antibes\nDécider sans tout savoir : leçons de...
URL:https://association.centralesupelec-alumni.com/fr/group/cote-d-azur-corse-csa/309/calendar/decider-sans-tout-savoir-lecons-de-statistique-bayesienne-et-de-loup-garou/2026/04/25/9907
BEGIN:VALARM
TRIGGER:-P0DT1H0M0S
ACTION:DISPLAY
END:VALARM
END:VEVENT
END:VCALENDAR