BEGIN:VCALENDAR
VERSION:2.0
PRODID:-//hacksw/handcal//NONSGML v1.0//EN
BEGIN:VEVENT
DTSTART:20260326T180000Z
DTEND:20260326T190000Z
LOCATION:https://association.centralesupelec-alumni.com/fr/event/retraite-internationale-comprendre-anticiper-agir/2026/03/26/9754
ORGANIZER;CN=Frédéric Misheletti - Belgique (CSA):MAILTO:frederic.misheletti@gmail.com
SUMMARY:Info Webinaire: Retraite internationale : comprendre, anticiper, agir
DESCRIPTION:\nExpatriés, impatriés, carrières internationales… Comment fonctionne une retraite internationale et quelles démarches entreprendre pour sécuriser ses droits ?\n Au programme :\n✔️ Comprendre les...
URL:https://association.centralesupelec-alumni.com/fr/group/belgique-csa/55/calendar/info-webinaire-retraite-internationale-comprendre-anticiper-agir/2026/03/26/9896
BEGIN:VALARM
TRIGGER:-P0DT1H0M0S
ACTION:DISPLAY
END:VALARM
END:VEVENT
END:VCALENDAR