BEGIN:VCALENDAR
VERSION:2.0
PRODID:-//hacksw/handcal//NONSGML v1.0//EN
BEGIN:VEVENT
DTSTART:20261006T160000Z
DTEND:20261008T150000Z
LOCATION:Mulhouse
ORGANIZER;CN=Jean-Marc Morel - CSA Ile de France:MAILTO:jmmorel84@gmail.com
SUMMARY:Escapade automnale de 2 jours en Alsace du Sud
DESCRIPTION:Crédit photo OTC Mulhouse.\nChers Camarades,\n Le Groupe Régional Île de France vous propose :\n Une escapade automnale de 2 jours en Alsace du Sud  Cette  escapade sera centrée principalement sur la ...
URL:https://association.centralesupelec-alumni.com/fr/group/csa-ile-de-france/587/calendar/escapade-automnale-de-2-jours-en-alsace-du-sud/2026/10/06/9888
BEGIN:VALARM
TRIGGER:-P0DT1H0M0S
ACTION:DISPLAY
END:VALARM
END:VEVENT
END:VCALENDAR