BEGIN:VCALENDAR
VERSION:2.0
PRODID:-//hacksw/handcal//NONSGML v1.0//EN
BEGIN:VEVENT
DTSTART:20260628T093000Z
DTEND:20260628T150000Z
LOCATION:Le Fer à Cheval \nAllée du Fer à Cheval \n92210 SAINT-CLOUD
ORGANIZER;CN=CentraleSupélec Alumni:MAILTO:csa-alumni@centralesupelec-alumni.com
SUMMARY:Garden Party en blanc
DESCRIPTION:\nCentraleSupélec Alumni a le plaisir de vous convier à la 3ᵉ édition de sa Garden Party, le dimanche 28 juin 2026, au restaurant Le Fer à Cheval, niché au cœur du splendide domaine de Saint-Cloud,...
URL:https://association.centralesupelec-alumni.com/fr/event/garden-party-en-blanc/2026/06/28/9887
BEGIN:VALARM
TRIGGER:-P0DT1H0M0S
ACTION:DISPLAY
END:VALARM
END:VEVENT
END:VCALENDAR