BEGIN:VCALENDAR
VERSION:2.0
PRODID:-//hacksw/handcal//NONSGML v1.0//EN
BEGIN:VEVENT
DTSTART:20260303T113000Z
DTEND:20260303T130000Z
LOCATION:https://zoom.us/j/98240112759?pwd=sRmCHZ2TbNbTodNo8ON3Z6ExJbQfYI.1
ORGANIZER;CN=Jacqueline Pasdeloup:MAILTO:jacqueline@asso-supelec.org
SUMMARY:Webinaire « Les 5 soft skills du manager de demain »
DESCRIPTION:\nLES 5 SOFT SKILLS DU MANAGER DE DEMAIN\ncomment les détecter, les évaluer et les développer\nDans un environnement en perpétuel changement, les soft skills deviennent le nouveau critère de...
URL:https://association.centralesupelec-alumni.com/fr/event/webinaire-les-5-soft-skills-du-manager-de-demain/2026/03/03/9869
BEGIN:VALARM
TRIGGER:-P0DT1H0M0S
ACTION:DISPLAY
END:VALARM
END:VEVENT
END:VCALENDAR