BEGIN:VCALENDAR
VERSION:2.0
PRODID:-//hacksw/handcal//NONSGML v1.0//EN
BEGIN:VEVENT
DTSTART:20260306T020000Z
DTEND:20260306T040000Z
LOCATION:The Wine Room \n520, Ramona Street \n94301 PALO ALTO
ORGANIZER;CN=Alain Raynaud - USA (CSA):MAILTO:alain@fairsoftware.net
SUMMARY:After-work CentraleSupélec a Palo Alto
DESCRIPTION:On vous donne rendez-vous jeudi 5 mars a Palo Alto pour notre prochain after-work CentraleSupélec Alumni. N'hésitez pas a partager cette invitation aux anciens qui n'ont pas reçu l'info.Lieu:THE WINE ...
URL:https://association.centralesupelec-alumni.com/fr/group/usa-csa/209/calendar/after-work-centralesupelec-a-palo-alto/2026/03/06/9858
BEGIN:VALARM
TRIGGER:-P0DT1H0M0S
ACTION:DISPLAY
END:VALARM
END:VEVENT
END:VCALENDAR