BEGIN:VCALENDAR
VERSION:2.0
PRODID:-//hacksw/handcal//NONSGML v1.0//EN
BEGIN:VEVENT
DTSTART:20260310T173000Z
DTEND:20260310T203000Z
LOCATION:La Scène 2 \n190, Rue Pierre Duhem \n13290 AIX-EN-PROVENCE
ORGANIZER;CN=Philippe Cabrit - Provence (CSA):MAILTO:philippe.cabrit@centralesupelec-alumni.com
SUMMARY:Afterwork /afterschool CentraleSupelec Intergroupe Centrale
DESCRIPTION:AFTERWORK du mardi 10  mars\nNotre prochain afterwork / afterschool aura lieu le mardi 10 mars à la Scène2 aux  Milles à Aix en Provence . C'est dans la zone d'activités des Milles, bien accessible en...
URL:https://association.centralesupelec-alumni.com/fr/group/provence-csa/347/calendar/afterwork-afterschool-centralesupelec-intergroupe-centrale/2026/03/10/9853
BEGIN:VALARM
TRIGGER:-P0DT1H0M0S
ACTION:DISPLAY
END:VALARM
END:VEVENT
END:VCALENDAR