BEGIN:VCALENDAR
VERSION:2.0
PRODID:-//hacksw/handcal//NONSGML v1.0//EN
BEGIN:VEVENT
DTSTART:20260407T080000Z
DTEND:20260407T110000Z
LOCATION:Saint Gobain  DSC - MARGNY LES COMPIEGNE \nSTAC NORD IDF  Avenue Henry Potez  Pôle de développement Hauts de Margny \n60280 Margny Les Compiegne
ORGANIZER;CN=Jérémie Henrot - Achats & Supply Chain (CSA):MAILTO:jeremie.henrot@gmail.com
SUMMARY:Visite site Saint Gobain  DSC
DESCRIPTION:Bonjour à toutes et à tous,Comme indiqué, nous vous proposons une visite (gratuite) de la base logistique St Gobain (activité Distribution Sanitaire et Chauffage)48 000 m², stockage en partie...
URL:https://association.centralesupelec-alumni.com/fr/group/achats-supply-chain-csa/63/calendar/visite-site-saint-gobain-dsc/2026/04/07/9849
BEGIN:VALARM
TRIGGER:-P0DT1H0M0S
ACTION:DISPLAY
END:VALARM
END:VEVENT
END:VCALENDAR