BEGIN:VCALENDAR
VERSION:2.0
PRODID:-//hacksw/handcal//NONSGML v1.0//EN
BEGIN:VEVENT
DTSTART:20260311T174500Z
DTEND:20260311T210000Z
LOCATION:Maison CentraleSupélec ; 5e étage \n8, Rue Jean Goujon \n75008 PARIS
ORGANIZER;CN=Albin Jura:MAILTO:albin.jura@gmail.com
SUMMARY:Le recyclage des batteries des véhicules électriques : économie circulaire de la mobilité durable
DESCRIPTION:CentraleSupélec Alumni et Centrale-Energies ont le plaisir de vous inviter à la conférenceLe recyclage des batteries des véhicules électriquesEconomie circulaire de la mobilité durableLe mercredi 11...
URL:https://association.centralesupelec-alumni.com/fr/event/le-recyclage-des-batteries-des-vehicules-electriques-economie-circulaire-de-la-mobilite-durable/2026/03/11/9835
BEGIN:VALARM
TRIGGER:-P0DT1H0M0S
ACTION:DISPLAY
END:VALARM
END:VEVENT
END:VCALENDAR