BEGIN:VCALENDAR
VERSION:2.0
PRODID:-//hacksw/handcal//NONSGML v1.0//EN
BEGIN:VEVENT
DTSTART:20260702T110000Z
DTEND:20260702T200000Z
LOCATION:Golf Isabella \nAvenue D'Armorique \n78370 PLAISIR
ORGANIZER;CN=Guy Delcroix - Golfeurs (CSA):MAILTO:guy.delcroix@wanadoo.fr
SUMMARY:3ème tour du Trophée des Grandes Ecoles TGE 2026 à Isabella
DESCRIPTION:Le 3ème tour du Trophée des Grandes Ecoles 2025 aura bien lieu le 2 juillet 2026 sur le golf Isabella. La rencontre sera suivie d'un BBQ!Organisateur: françois Gallant (S 89)
URL:https://association.centralesupelec-alumni.com/fr/group/golfeurs-csa/343/calendar/3eme-tour-du-trophee-des-grandes-ecoles-tge-2026-a-isabella/2026/07/02/9831
BEGIN:VALARM
TRIGGER:-P0DT1H0M0S
ACTION:DISPLAY
END:VALARM
END:VEVENT
END:VCALENDAR