BEGIN:VCALENDAR
VERSION:2.0
PRODID:-//hacksw/handcal//NONSGML v1.0//EN
BEGIN:VEVENT
DTSTART:20260213T111500Z
DTEND:20260213T123000Z
LOCATION:Café Zaw \n27, Boulevard de Stalingrad \n44000 NANTES
ORGANIZER;CN=Guillaume Landru - Ouest-Atlantique (CSA):MAILTO:guillaume.landru@gmail.com
SUMMARY:Rencontre dédicace autour de Gaspard Koenig et de son roman "Aqua"
DESCRIPTION:Bonjour à tous,Nos amis de Sciences Po nous partage cette invitation.Plus d'informations et inscription directement sur le site Alumni de Sciences Po.Rencontre dédicace\nautour de Gaspard Koenig\nà...
URL:https://association.centralesupelec-alumni.com/fr/group/ouest-atlantique-csa/297/calendar/rencontre-dedicace-autour-de-gaspard-koenig-et-de-son-roman-aqua/2026/02/13/9813
BEGIN:VALARM
TRIGGER:-P0DT1H0M0S
ACTION:DISPLAY
END:VALARM
END:VEVENT
END:VCALENDAR