BEGIN:VCALENDAR
VERSION:2.0
PRODID:-//hacksw/handcal//NONSGML v1.0//EN
BEGIN:VEVENT
DTSTART:20260219T083000Z
DTEND:20260219T150000Z
LOCATION:Bar « L'Emmanon » \nSortie principale de la station RER A de Maisons-laffitte \n78600 Maisons-Laffitte
ORGANIZER;CN=Jacqueline Pasdeloup - CSA Ile de France:MAILTO:jacqueline@asso-supelec.org
SUMMARY:Randonnée :  « De Maisons-Laffitte à La Frette »
DESCRIPTION:\nRendez-vous :  9 h 30 au bar « L’EMMANON ». Ce bar est situé juste à droite de la sortie principale de la station RER A de Maisons-Laffitte (croisement avenue de Longueil et avenue de Saint...
URL:https://association.centralesupelec-alumni.com/fr/group/csa-ile-de-france/587/calendar/randonnee-de-maisons-laffitte-a-la-frette/2026/02/19/9812
BEGIN:VALARM
TRIGGER:-P0DT1H0M0S
ACTION:DISPLAY
END:VALARM
END:VEVENT
END:VCALENDAR