BEGIN:VCALENDAR
VERSION:2.0
PRODID:-//hacksw/handcal//NONSGML v1.0//EN
BEGIN:VEVENT
DTSTART:20260521T101500Z
DTEND:20260521T120000Z
LOCATION:Pilgrim \n1, Place Graslin \n44000 NANTES
ORGANIZER;CN=Guillaume Landru - Ouest-Atlantique (CSA):MAILTO:guillaume.landru@gmail.com
SUMMARY:Rencontres & Restos CSOA sur Nantes Centre - jeudi 21 mai 2026
DESCRIPTION:Bonjour,Notre prochaine "Rencontres & Restos" aura lieu sur Nantes Centre le jeudi 21 mai midi au “Pilgrim” place Graslin.Nous vous y accueillerons à partir de 12h15. \nPS : merci de vous inscrire...
URL:https://association.centralesupelec-alumni.com/fr/group/ouest-atlantique-csa/297/calendar/rencontres-restos-csoa-sur-nantes-centre-jeudi-21-mai-2026/2026/05/21/9801
BEGIN:VALARM
TRIGGER:-P0DT1H0M0S
ACTION:DISPLAY
END:VALARM
END:VEVENT
END:VCALENDAR