BEGIN:VCALENDAR
VERSION:2.0
PRODID:-//hacksw/handcal//NONSGML v1.0//EN
BEGIN:VEVENT
DTSTART:20260423T101500Z
DTEND:20260423T120000Z
LOCATION:Zio Gino \n4, Avenue du Saint-Laurent \n44800 SAINT-HERBLAIN
ORGANIZER;CN=Guillaume Landru - Ouest-Atlantique (CSA):MAILTO:guillaume.landru@gmail.com
SUMMARY:Rencontres & Restos CSOA sur Nantes Ouest - jeudi 23 avril 2026
DESCRIPTION:Bonjour,Notre prochaine "Rencontres & Restos" aura lieu sur Nantes Ouest le jeudi 23 avril midi chez Zio Gino à Atlantis avec pizzas et autres spécialités italiennes.Nous vous y accueillerons à partir...
URL:https://association.centralesupelec-alumni.com/fr/group/ouest-atlantique-csa/297/calendar/rencontres-restos-csoa-sur-nantes-ouest-jeudi-23-avril-2026/2026/04/23/9799
BEGIN:VALARM
TRIGGER:-P0DT1H0M0S
ACTION:DISPLAY
END:VALARM
END:VEVENT
END:VCALENDAR