BEGIN:VCALENDAR
VERSION:2.0
PRODID:-//hacksw/handcal//NONSGML v1.0//EN
BEGIN:VEVENT
DTSTART:20260326T111500Z
DTEND:20260326T130000Z
LOCATION:Tante Yvette \n14, Route de Paris \n44300 NANTES
ORGANIZER;CN=Guillaume Landru - Ouest-Atlantique (CSA):MAILTO:guillaume.landru@gmail.com
SUMMARY:Rencontres & Restos CSOA sur Nantes Est - jeudi 26 mars 2026
DESCRIPTION:Bonjour,Notre prochain rendez-vous "Rencontres & Restos" aura lieu sur Nantes Est le jeudi 26 mars midi chez Tante Yvette à Paridis avec crêpes et cidre ou Beaujolais...Nous vous y accueillerons à...
URL:https://association.centralesupelec-alumni.com/fr/group/ouest-atlantique-csa/297/calendar/rencontres-restos-csoa-sur-nantes-est-jeudi-26-mars-2026/2026/03/26/9798
BEGIN:VALARM
TRIGGER:-P0DT1H0M0S
ACTION:DISPLAY
END:VALARM
END:VEVENT
END:VCALENDAR