BEGIN:VCALENDAR
VERSION:2.0
PRODID:-//hacksw/handcal//NONSGML v1.0//EN
BEGIN:VEVENT
DTSTART:20260219T173000Z
DTEND:20260219T220000Z
LOCATION:L' ALIMENTARI \n64, Rue Jean-Pierre Timbaud \n75011 PARIS
ORGANIZER;CN=Yannick Le Corre - Bâtiment - Travaux Publics (CSA):MAILTO:yannick.lecorre@gmx.fr
SUMMARY:AFTERWORK  BTP - L'ALIMENTARI - 19 FEVRIER
DESCRIPTION:AFTERWORK - L'ALIMENTARILe groupement CENTRALE SUPELEC BTP vous convie à un afterwork le\nJEUDI 19 FEVRIER 2026 à partir de 18h30\nLe groupement BTP de Centrale-Supelec Alumni relance le...
URL:https://association.centralesupelec-alumni.com/fr/group/batiment-travaux-publics-csa/339/calendar/afterwork-btp-l-alimentari-19-fevrier/2026/02/19/9797
BEGIN:VALARM
TRIGGER:-P0DT1H0M0S
ACTION:DISPLAY
END:VALARM
END:VEVENT
END:VCALENDAR