BEGIN:VCALENDAR
VERSION:2.0
PRODID:-//hacksw/handcal//NONSGML v1.0//EN
BEGIN:VEVENT
DTSTART:20260616T090000Z
DTEND:20260618T140000Z
LOCATION:Éguzon \n36270 Éguzon-Chantôme
ORGANIZER;CN=Yves Roinel - Promotion Supélec 1967:MAILTO:yves.roinel.1967@centralesupelec-alumni.com
SUMMARY:Centième anniversaire du barrage d'Éguzon
DESCRIPTION:Notre camarade Bernard Évenot (1967) nous propose un événement de 3 jours (2 nuits)du 16 juin 11 h au 18 juin 16 hautour des festivités organisées pour le centième anniversaire du barrage d'Éguzon...
URL:https://association.centralesupelec-alumni.com/fr/group/promotion-supelec-1967/498/calendar/centieme-anniversaire-du-barrage-d-eguzon/2026/06/16/9796
BEGIN:VALARM
TRIGGER:-P0DT1H0M0S
ACTION:DISPLAY
END:VALARM
END:VEVENT
END:VCALENDAR