BEGIN:VCALENDAR
VERSION:2.0
PRODID:-//hacksw/handcal//NONSGML v1.0//EN
BEGIN:VEVENT
DTSTART:20260528T080000Z
DTEND:20260528T153000Z
LOCATION:Musée Grataloup \n3 rue de l'Eglise \n78460 Chevreuse
ORGANIZER;CN=Jacqueline Pasdeloup - CSA Ile de France:MAILTO:jacqueline@asso-supelec.org
SUMMARY:Visite guidée du musée Grataloup à Chevreuse, du musée et du parc de l’Abbaye de Port Royal des Champs, à Magny- les-Hameaux
DESCRIPTION:Crédit photo : GRATALOUP- 2022 – En Haut comme en Bas – 80 cm x 80 cm\nCSA IDF vous propose, le jeudi 28 mai 2026, une journée culturelle et mémorielle avec, le matin, la visite guidée du musée...
URL:https://association.centralesupelec-alumni.com/fr/group/csa-ile-de-france/587/calendar/visite-guidee-du-musee-grataloup-a-chevreuse-du-musee-et-du-parc-de-l-abbaye-de-port-royal-des-champs-a-magny-les-hameaux/2026/05/28/9794
BEGIN:VALARM
TRIGGER:-P0DT1H0M0S
ACTION:DISPLAY
END:VALARM
END:VEVENT
END:VCALENDAR