BEGIN:VCALENDAR
VERSION:2.0
PRODID:-//hacksw/handcal//NONSGML v1.0//EN
BEGIN:VEVENT
DTSTART:20260311T170000Z
DTEND:20260311T190000Z
LOCATION:
ORGANIZER;CN=Nita Hauchecorne - CentraleSupélec Numérique:MAILTO:nita.hauchecorne@gmail.com
SUMMARY:L’infox et l’esprit critique à l’heure des réseaux sociaux et de l’intelligence artificielle
DESCRIPTION:\n        @page { size: 21cm 29.7cm; margin: 2cm }         p { line-height: 115%; margin-bottom: 0.25cm; background: transparent }     🎓 Soirée Alumni – CentraleSupélec NumériqueFake news, théories du...
URL:https://association.centralesupelec-alumni.com/fr/group/centralesupelec-numerique/329/calendar/l-infox-et-l-esprit-critique-a-l-heure-des-reseaux-sociaux-et-de-l-intelligence-artificielle/2026/03/11/9791
BEGIN:VALARM
TRIGGER:-P0DT1H0M0S
ACTION:DISPLAY
END:VALARM
END:VEVENT
END:VCALENDAR