BEGIN:VCALENDAR
VERSION:2.0
PRODID:-//hacksw/handcal//NONSGML v1.0//EN
BEGIN:VEVENT
DTSTART:20260220T120000Z
DTEND:20260220T130000Z
LOCATION:
ORGANIZER;CN=Jacqueline Pasdeloup:MAILTO:jacqueline@asso-supelec.org
SUMMARY:Webinaire « Mieux interagir grâce à l’Analyse Transactionnelle »
DESCRIPTION:\nCet atelier est pour vous si vous souhaitez :Mieux vous connaître et comprendre les autres à travers une découverte de l’Analyse Transactionnelle\nObjectifs :  vous permettre de Mieux comprendre les...
URL:https://association.centralesupelec-alumni.com/fr/event/webinaire-mieux-interagir-grace-a-l-analyse-transactionnelle/2026/02/20/9790
BEGIN:VALARM
TRIGGER:-P0DT1H0M0S
ACTION:DISPLAY
END:VALARM
END:VEVENT
END:VCALENDAR