BEGIN:VCALENDAR
VERSION:2.0
PRODID:-//hacksw/handcal//NONSGML v1.0//EN
BEGIN:VEVENT
DTSTART:20260313T103000Z
DTEND:20260313T113000Z
LOCATION:CentraleSupélec \n3, Rue Joliot Curie \n91190 GIF-SUR-YVETTE
ORGANIZER;CN=CentraleSupélec Alumni:MAILTO:csa-alumni@centralesupelec-alumni.com
SUMMARY:Rencontrez des dirigeantes Alumni aux parcours remarquables
DESCRIPTION:Événement exceptionnelÉchangez avec des dirigeantes diplômées de CentraleSupélec, en présence de la députée Marie-Pierre Rixain,  autrice de la “Loi Rixain” d’égalité professionnelle\nAvec entre...
URL:https://association.centralesupelec-alumni.com/fr/event/rencontrez-des-dirigeantes-alumni-aux-parcours-remarquables/2026/03/13/9788
BEGIN:VALARM
TRIGGER:-P0DT1H0M0S
ACTION:DISPLAY
END:VALARM
END:VEVENT
END:VCALENDAR