BEGIN:VCALENDAR
VERSION:2.0
PRODID:-//hacksw/handcal//NONSGML v1.0//EN
BEGIN:VEVENT
DTSTART:20260311T180000Z
DTEND:20260311T200000Z
LOCATION:Maison CentraleSupelec \n8, Rue Jean Goujon \n75008 PARIS
ORGANIZER;CN=CentraleSupélec Alumni:MAILTO:csa-alumni@centralesupelec-alumni.com
SUMMARY:Soirée de lancement de l'Institut de Prospective CentraleSupélec Alumni
DESCRIPTION:CentraleSupélec Alumni est heureux de vous convier à la soirée de lancement de l’Institut de Prospective CentraleSupélec Alumni (IPCSA), think tank qui analyse les tendances émergentes et partage la...
URL:https://association.centralesupelec-alumni.com/fr/event/soiree-de-lancement-de-l-institut-de-prospective-centralesupelec-alumni/2026/03/11/9782
BEGIN:VALARM
TRIGGER:-P0DT1H0M0S
ACTION:DISPLAY
END:VALARM
END:VEVENT
END:VCALENDAR