BEGIN:VCALENDAR
VERSION:2.0
PRODID:-//hacksw/handcal//NONSGML v1.0//EN
BEGIN:VEVENT
DTSTART:20260409T103000Z
DTEND:20260409T130000Z
LOCATION:FERRANDI Paris \n28, Rue de l'Abbé Grégoire \n75006 PARIS
ORGANIZER;CN=Jacqueline Pasdeloup - CSA Ile de France:MAILTO:jacqueline@asso-supelec.org
SUMMARY:Déjeuner Gastronomique CSA Île de France à l'École de la gastronomie FERRANDI Paris
DESCRIPTION:Crédit photos : Vincent Nageotte\nVenez vivre une expérience inédite et déguster \nun menu digne d'un restaurant gastronomique \nélaboré et servi par les grands noms de demain !\nChère Camarade, Cher ...
URL:https://association.centralesupelec-alumni.com/fr/group/csa-ile-de-france/587/calendar/dejeuner-gastronomique-csa-ile-de-france-a-l-ecole-de-la-gastronomie-ferrandi-paris/2026/04/09/9781
BEGIN:VALARM
TRIGGER:-P0DT1H0M0S
ACTION:DISPLAY
END:VALARM
END:VEVENT
END:VCALENDAR