BEGIN:VCALENDAR
VERSION:2.0
PRODID:-//hacksw/handcal//NONSGML v1.0//EN
BEGIN:VEVENT
DTSTART:20260217T070000Z
DTEND:20260217T090000Z
LOCATION:Maison CentraleSupelec \n8, Rue Jean Goujon \n75008 PARIS
ORGANIZER;CN=CentraleSupélec Alumni:MAILTO:csa-alumni@centralesupelec-alumni.com
SUMMARY:Petit-déjeuner conférence avec Alain Bauer
DESCRIPTION:CentraleSupélec Alumni a le plaisir de recevoir\nAlain BauerProfesseur de Criminologie au Conservatoire National des Arts et Métiers, Responsable scientifique du Pôle Sécurité Défense – Renseignement ...
URL:https://association.centralesupelec-alumni.com/fr/event/petit-dejeuner-conference-avec-alain-bauer/2026/02/17/9780
BEGIN:VALARM
TRIGGER:-P0DT1H0M0S
ACTION:DISPLAY
END:VALARM
END:VEVENT
END:VCALENDAR