BEGIN:VCALENDAR
VERSION:2.0
PRODID:-//hacksw/handcal//NONSGML v1.0//EN
BEGIN:VEVENT
DTSTART:20260413T174500Z
DTEND:20260413T200000Z
LOCATION:Philharmonie de Paris / Grande Salle - Philharmonie 1 \n221, Avenue Jean Jaurès \n75019 PARIS
ORGANIZER;CN=Jacqueline Pasdeloup - CSA Ile de France:MAILTO:jacqueline@asso-supelec.org
SUMMARY:Orchestre de L’Accademia Nazionale Santa Cecilia : Brahms  / Elgar, à la Philharmonie de Paris
DESCRIPTION:Crédit photo @ Ava du ParcGrande Salle Pierre Boulez, Philharmonie de ParisKlaus Mäkelä dirige l'Orchestre de Paris. Yunchan Lim , pianoATTENTION DATE LIMITE D'INSCRIPTION : 30 MARS 2026 à 10 h...
URL:https://association.centralesupelec-alumni.com/fr/group/csa-ile-de-france/587/calendar/orchestre-de-l-accademia-nazionale-santa-cecilia-brahms-elgar-a-la-philharmonie-de-paris/2026/04/13/9778
BEGIN:VALARM
TRIGGER:-P0DT1H0M0S
ACTION:DISPLAY
END:VALARM
END:VEVENT
END:VCALENDAR