BEGIN:VCALENDAR
VERSION:2.0
PRODID:-//hacksw/handcal//NONSGML v1.0//EN
BEGIN:VEVENT
DTSTART:20260611T153000Z
DTEND:20260611T190000Z
LOCATION:Campus de Rennes de CentraleSupélec \nAvenue de la Boulaie \n35510 CESSON-SEVIGNE
ORGANIZER;CN=CentraleSupélec Alumni:MAILTO:csa-alumni@centralesupelec-alumni.com
SUMMARY:Rennes vous rassemble - Les inscriptions sont ouvertes !
DESCRIPTION:Plus que jamais, vos entreprises, centres de recherche, organisations, ont besoin de tous les talents pour relever les défis qui s'annoncent et l'ambition de CentraleSupélec est de répondre à la...
URL:https://association.centralesupelec-alumni.com/fr/event/rennes-vous-rassemble-les-inscriptions-sont-ouvertes/2026/06/11/9774
BEGIN:VALARM
TRIGGER:-P0DT1H0M0S
ACTION:DISPLAY
END:VALARM
END:VEVENT
END:VCALENDAR