BEGIN:VCALENDAR
VERSION:2.0
PRODID:-//hacksw/handcal//NONSGML v1.0//EN
BEGIN:VEVENT
DTSTART:20260219T113000Z
DTEND:20260219T130000Z
LOCATION:https://zoom.us/j/92646039172?pwd=yv9yaqXx3tRKdZ7DZLtlNIHPByHXXz.1
ORGANIZER;CN=Jacqueline Pasdeloup:MAILTO:jacqueline@asso-supelec.org
SUMMARY:Webinaire « Re (donner) du sens à ton équipe »
DESCRIPTION:\nWebinaire(RE)DONNER DU SENS AU TRAVAIL\nComment reconnecter les collaborateurs à l'impact de leur rôleJeudi 19 février 2026\nde 12 h 30 à 14 h \nDésengagement, perte de repères, démissions...
URL:https://association.centralesupelec-alumni.com/fr/event/webinaire-re-donner-du-sens-a-ton-equipe/2026/02/19/9771
BEGIN:VALARM
TRIGGER:-P0DT1H0M0S
ACTION:DISPLAY
END:VALARM
END:VEVENT
END:VCALENDAR