BEGIN:VCALENDAR
VERSION:2.0
PRODID:-//hacksw/handcal//NONSGML v1.0//EN
BEGIN:VEVENT
DTSTART:20260209T113000Z
DTEND:20260209T130000Z
LOCATION:https://us02web.zoom.us/j/89501050098?pwd=9IwasabETxGR1pJ5SuNauqBzbLxDhM.1
ORGANIZER;CN=Jacqueline Pasdeloup:MAILTO:jacqueline@asso-supelec.org
SUMMARY:Webinaire « Introvertis, comment rayonner en entreprise ? »
DESCRIPTION:\nINTROVERTIS, COMMENT RAYONNER EN ENTREPRISE\nConnectes toi au pouvoir des discrets !\nLundi 9 février 2026\nde 12 h 30 à 14 hEn visioconférence Vous appréciez le calme et la solitude ?\nCeux que...
URL:https://association.centralesupelec-alumni.com/fr/event/webinaire-introvertis-comment-rayonner-en-entreprise/2026/02/09/9770
BEGIN:VALARM
TRIGGER:-P0DT1H0M0S
ACTION:DISPLAY
END:VALARM
END:VEVENT
END:VCALENDAR