BEGIN:VCALENDAR
VERSION:2.0
PRODID:-//hacksw/handcal//NONSGML v1.0//EN
BEGIN:VEVENT
DTSTART:20260216T180000Z
DTEND:20260216T200000Z
LOCATION:Hôtel des Arts et Métiers - Salon Président \n9, Avenue d'Iéna \n75016 PARIS
ORGANIZER;CN=Jacqueline Pasdeloup:MAILTO:jacqueline@asso-supelec.org
SUMMARY:Conférence table-ronde « Le jour où j'ai quitté Bill Gates  » / EN PRÉSENTIEL HYBRIDE
DESCRIPTION:\nEN HYBRIDEPOUR VOUS INSCRIRE\nConférence prestige / Table ronde \nLE JOUR OÙ J'AI QUITTÉ BILL GATES\n Construire son employabilité et garder la main sur son destin professionnel Lundi 16 Février...
URL:https://association.centralesupelec-alumni.com/fr/event/conference-table-ronde-le-jour-ou-j-ai-quitte-bill-gates-en-presentiel-hybride/2026/02/16/9769
BEGIN:VALARM
TRIGGER:-P0DT1H0M0S
ACTION:DISPLAY
END:VALARM
END:VEVENT
END:VCALENDAR