BEGIN:VCALENDAR
VERSION:2.0
PRODID:-//hacksw/handcal//NONSGML v1.0//EN
BEGIN:VEVENT
DTSTART:20260212T113000Z
DTEND:20260212T130000Z
LOCATION:AX - Salle Caroline Aigle (Maison des Polytechniciens) \n12, Rue de Poitiers \n75007 PARIS
ORGANIZER;CN=Jacqueline Pasdeloup:MAILTO:jacqueline@asso-supelec.org
SUMMARY:Atelier « Organiser son patrimoine et protéger ses proches : les quick wins  » / EN PRÉSENTIEL UNIQUEMENT
DESCRIPTION:\nEN PRÉSENTIEL UNIQUEMENT\nÀ l’image d’un pilotage de carrière réussi, organiser son patrimoine et protéger ses proches consiste avant tout à intégrer des notions clés de droit civil, comprendre les ...
URL:https://association.centralesupelec-alumni.com/fr/event/atelier-organiser-son-patrimoine-et-proteger-ses-proches-les-quick-wins-en-presentiel-uniquement/2026/02/12/9765
BEGIN:VALARM
TRIGGER:-P0DT1H0M0S
ACTION:DISPLAY
END:VALARM
END:VEVENT
END:VCALENDAR