BEGIN:VCALENDAR
VERSION:2.0
PRODID:-//hacksw/handcal//NONSGML v1.0//EN
BEGIN:VEVENT
DTSTART:20260310T113000Z
DTEND:20260310T133000Z
LOCATION:https://us06web.zoom.us/j/89230626987?pwd=hbps0OHyw5rP8boMfXmTVpFXdURmk3.1
ORGANIZER;CN=Jacqueline Pasdeloup:MAILTO:jacqueline@asso-supelec.org
SUMMARY:Webinaire « Trop tôt, trop tard, maintenant ? comment déterminer le « bon » timing d’une transition professionnelle ?  »
DESCRIPTION:\nVous sentez que quelque chose ne va plus dans votre vie professionnelle, mais vous vous demandez sans cesse si c’est le « bon » moment pour changer ?Vous n’êtes pas seul.e : la question du « bon »...
URL:https://association.centralesupelec-alumni.com/fr/event/webinaire-trop-tot-trop-tard-maintenant-comment-determiner-le-bon-timing-d-une-transition-professionnelle/2026/03/10/9764
BEGIN:VALARM
TRIGGER:-P0DT1H0M0S
ACTION:DISPLAY
END:VALARM
END:VEVENT
END:VCALENDAR