BEGIN:VCALENDAR
VERSION:2.0
PRODID:-//hacksw/handcal//NONSGML v1.0//EN
BEGIN:VEVENT
DTSTART:20260306T113000Z
DTEND:20260306T130000Z
LOCATION:https://us06web.zoom.us/j/88013188222?pwd=jMswbp040ctpR8jzVQk0rdFL0Vh0fe.1
ORGANIZER;CN=Jacqueline Pasdeloup:MAILTO:jacqueline@asso-supelec.org
SUMMARY:Webinaire « Et si vous lever le matin devenait un plaisir ?  Atelier Ikigaï Webinaire »
DESCRIPTION:\nL’ikigaï est une méthode d’inspiration japonaise pour trouver « ce qui nous donne envie de nous lever le matin ». La méthode, ludique, consiste à trouver un point d’équilibre entre ses aspirations...
URL:https://association.centralesupelec-alumni.com/fr/event/webinaire-et-si-vous-lever-le-matin-devenait-un-plaisir-atelier-ikigai-webinaire/2026/03/06/9763
BEGIN:VALARM
TRIGGER:-P0DT1H0M0S
ACTION:DISPLAY
END:VALARM
END:VEVENT
END:VCALENDAR