BEGIN:VCALENDAR
VERSION:2.0
PRODID:-//hacksw/handcal//NONSGML v1.0//EN
BEGIN:VEVENT
DTSTART:20260304T180000Z
DTEND:20260304T210000Z
LOCATION:Restaurant Les Feuillantines \n101, Route de Gauré \n31130 BALMA
ORGANIZER;CN=Jean-Yves Papazoglou - CSA Occitanie-Midi Pyrénées:MAILTO:jeanyves.papazoglou@gmail.com
SUMMARY:Aviation et climat: trajectoire et leviers pour une neutralité carbone en 2050 . Quel  avenir pour les carburants durables pour l'aviation ?
DESCRIPTION:Charles Leroudier (ECP90)  décrypte les enjeux de la décarbonation du secteur de l'aviation à l’horizon 2050, le rôle crucial des SAF (sustainable aviation fuel)  et la nécessité d'une mobilisation...
URL:https://association.centralesupelec-alumni.com/fr/group/csa-occitanie-midi-pyrenees/291/calendar/aviation-et-climat-trajectoire-et-leviers-pour-une-neutralite-carbone-en-2050-quel-avenir-pour-les-carburants-durables-pour-l-aviation/2026/03/04/9760
BEGIN:VALARM
TRIGGER:-P0DT1H0M0S
ACTION:DISPLAY
END:VALARM
END:VEVENT
END:VCALENDAR