BEGIN:VCALENDAR
VERSION:2.0
PRODID:-//hacksw/handcal//NONSGML v1.0//EN
BEGIN:VEVENT
DTSTART:20260203T180000Z
DTEND:20260203T210000Z
LOCATION:Pub The Queen Victoria \n1, Place aux Huiles \n13001 MARSEILLE
ORGANIZER;CN=Philippe Cabrit - Provence (CSA):MAILTO:philippe.cabrit@centralesupelec-alumni.com
SUMMARY:Afterwork/Afterschool CentraliensSupélec
DESCRIPTION:Mardi 3 février à Marseille\n Afterwork afterschool Centraliens Supélec­The Queen Victoria est un pub et restaurant anglais avec un cadre chaleureux et des prix très raisonnables ("happy hours"...
URL:https://association.centralesupelec-alumni.com/fr/group/provence-csa/347/calendar/afterwork-afterschool-centralienssupelec/2026/02/03/9759
BEGIN:VALARM
TRIGGER:-P0DT1H0M0S
ACTION:DISPLAY
END:VALARM
END:VEVENT
END:VCALENDAR