BEGIN:VCALENDAR
VERSION:2.0
PRODID:-//hacksw/handcal//NONSGML v1.0//EN
BEGIN:VEVENT
DTSTART:20260209T180000Z
DTEND:20260209T210000Z
LOCATION:Siège de Sisley \n3, Avenue de Friedland \n75008 PARIS
ORGANIZER;CN=Albin Jura:MAILTO:albin.jura@gmail.com
SUMMARY:Face à la désindustrialisation, le remède ETI ? avec Philippe d'Ornano, Président de Sisley et Co-Président du METI
DESCRIPTION:\nLe Club ESSEC Alumni Industrie, le Comité Paris des Conseillers du Commerce Extérieur de la France et CentraleSupélec Alumni vous invitent à un échange avec Philippe d'Ornano, \nPrésident de Sisley ...
URL:https://association.centralesupelec-alumni.com/fr/event/face-a-la-desindustrialisation-le-remede-eti-avec-philippe-d-ornano-president-de-sisley-et-co-president-du-meti/2026/02/09/9758
BEGIN:VALARM
TRIGGER:-P0DT1H0M0S
ACTION:DISPLAY
END:VALARM
END:VEVENT
END:VCALENDAR