BEGIN:VCALENDAR
VERSION:2.0
PRODID:-//hacksw/handcal//NONSGML v1.0//EN
BEGIN:VEVENT
DTSTART:20260209T174500Z
DTEND:20260209T194500Z
LOCATION:AX - Salle Louis Armand (Maison des Polytechniciens) \n12, Rue de Poitiers \n75007 PARIS
ORGANIZER;CN=Jacqueline Pasdeloup:MAILTO:jacqueline@asso-supelec.org
SUMMARY:Processus du changement & Posture du (futur) dirigeant / EN PRÉSENTIEL UNIQUEMENT
DESCRIPTION:\nATELIER EN PRÉSENTIEL UNIQUEMENT \nCet atelier est fait pour toi si :tu as envie de déployer ton potentiel de (futur) dirigeant.tu veux envisager de nouvelles perspectives pour toi et avec tes...
URL:https://association.centralesupelec-alumni.com/fr/event/processus-du-changement-posture-du-futur-dirigeant-en-presentiel-uniquement/2026/02/09/9753
BEGIN:VALARM
TRIGGER:-P0DT1H0M0S
ACTION:DISPLAY
END:VALARM
END:VEVENT
END:VCALENDAR