BEGIN:VCALENDAR
VERSION:2.0
PRODID:-//hacksw/handcal//NONSGML v1.0//EN
BEGIN:VEVENT
DTSTART:20260212T131500Z
DTEND:20260212T150000Z
LOCATION:Bibliothèque polonaise de Paris \n6, Quai d'Orléans \n75004 PARIS
ORGANIZER;CN=Jacqueline Pasdeloup - CSA Ile de France:MAILTO:jacqueline@asso-supelec.org
SUMMARY:Visite guidée de la bibliothèque polonaise de Paris
DESCRIPTION:Droits photo : ©La bibliothèque polonaise de Paris\nVisite de la Bibliothèque polonaise (Île Saint Louis de Paris) avec ses trois musées (le musée Adam Mickiewicz, le musée Biegas et le salon Frédéric...
URL:https://association.centralesupelec-alumni.com/fr/group/csa-ile-de-france/587/calendar/visite-guidee-de-la-bibliotheque-polonaise-de-paris/2026/02/12/9744
BEGIN:VALARM
TRIGGER:-P0DT1H0M0S
ACTION:DISPLAY
END:VALARM
END:VEVENT
END:VCALENDAR