BEGIN:VCALENDAR
VERSION:2.0
PRODID:-//hacksw/handcal//NONSGML v1.0//EN
BEGIN:VEVENT
DTSTART:20260306T070000Z
DTEND:20260306T100000Z
LOCATION:Marché de Gros \n69, Rue Marcel Mérieux \n69960 CORBAS
ORGANIZER;CN=Thierry Badel - Lyon (CSA):MAILTO:thierry.badel@orange.fr
SUMMARY:[Annulé] Visite du Marché de Gros de Lyon à Corbas
DESCRIPTION:Annulé...\nNous te proposons juste avant le printemps 2026, le vendredi 6 mars, une très intéressante visite... à un horaire inhabituel et suivie par un petit déjeuner typiquement lyonnais...
URL:https://association.centralesupelec-alumni.com/fr/group/lyon-csa/299/calendar/-annule-visite-du-marche-de-gros-de-lyon-a-corbas/2026/03/06/9743
BEGIN:VALARM
TRIGGER:-P0DT1H0M0S
ACTION:DISPLAY
END:VALARM
END:VEVENT
END:VCALENDAR